BEGIN:VCALENDAR
VERSION:2.0
PRODID:-//The New Inn- Saint John&#039;s Wood, London  - ECPv6.7.0//NONSGML v1.0//EN
CALSCALE:GREGORIAN
METHOD:PUBLISH
X-ORIGINAL-URL:http://thenewinnpub.com
X-WR-CALDESC:Events for The New Inn- Saint John&#039;s Wood, London 
REFRESH-INTERVAL;VALUE=DURATION:PT1H
X-Robots-Tag:noindex
X-PUBLISHED-TTL:PT1H
BEGIN:VTIMEZONE
TZID:UTC
BEGIN:STANDARD
TZOFFSETFROM:+0000
TZOFFSETTO:+0000
TZNAME:UTC
DTSTART:20240101T000000
END:STANDARD
END:VTIMEZONE
BEGIN:VEVENT
DTSTART;TZID=UTC:20241003T164500
DTEND;TZID=UTC:20241003T184500
DTSTAMP:20260421T015212
CREATED:20241003T095145Z
LAST-MODIFIED:20241003T133841Z
UID:3176-1727973900-1727981100@thenewinnpub.com
SUMMARY:Dinamo Minsk vs Hearts
DESCRIPTION:Dinamo Minsk vs Hearts
URL:http://thenewinnpub.com/event/oct-3rd-2024/
ATTACH;FMTTYPE=image/webp:http://thenewinnpub.com/wp-content/uploads/2024/10/218524.webp
END:VEVENT
BEGIN:VEVENT
DTSTART;TZID=UTC:20241003T164500
DTEND;TZID=UTC:20241003T184500
DTSTAMP:20260421T015212
CREATED:20241003T105834Z
LAST-MODIFIED:20241003T134006Z
UID:3195-1727973900-1727981100@thenewinnpub.com
SUMMARY:Ferencvaros vs Tottenham
DESCRIPTION:Ferencvaros vs Tottenham
URL:http://thenewinnpub.com/event/event-2/
ATTACH;FMTTYPE=image/jpeg:http://thenewinnpub.com/wp-content/uploads/2024/10/0_Tottenham-Ferencvaros.jpg
END:VEVENT
BEGIN:VEVENT
DTSTART;TZID=UTC:20241003T190000
DTEND;TZID=UTC:20241003T210000
DTSTAMP:20260421T015212
CREATED:20241003T101620Z
LAST-MODIFIED:20241003T122112Z
UID:3182-1727982000-1727989200@thenewinnpub.com
SUMMARY:Chelsea vs Gent
DESCRIPTION:Chelsea vs Gent
URL:http://thenewinnpub.com/event/double-sports-action-rugby-football-showdown-night/
END:VEVENT
BEGIN:VEVENT
DTSTART;TZID=UTC:20241003T190000
DTEND;TZID=UTC:20241003T210000
DTSTAMP:20260421T015212
CREATED:20241003T102136Z
LAST-MODIFIED:20241003T122237Z
UID:3185-1727982000-1727989200@thenewinnpub.com
SUMMARY:Porto vs Man Utd
DESCRIPTION:Porto vs Man Utd
URL:http://thenewinnpub.com/event/sports-marathon-non-stop-football-rugby-action/
END:VEVENT
BEGIN:VEVENT
DTSTART;TZID=UTC:20241003T190000
DTEND;TZID=UTC:20241003T210000
DTSTAMP:20260421T015212
CREATED:20241003T102720Z
LAST-MODIFIED:20241003T122327Z
UID:3187-1727982000-1727989200@thenewinnpub.com
SUMMARY:Rangers vs Lyon
DESCRIPTION:Rangers vs Lyon
URL:http://thenewinnpub.com/event/premier-football-clash-a-day-of-thrilling-matchups/
END:VEVENT
END:VCALENDAR