BEGIN:VCALENDAR
VERSION:2.0
PRODID:-//The New Inn- Saint John&#039;s Wood, London  - ECPv6.7.0//NONSGML v1.0//EN
CALSCALE:GREGORIAN
METHOD:PUBLISH
X-ORIGINAL-URL:http://thenewinnpub.com
X-WR-CALDESC:Events for The New Inn- Saint John&#039;s Wood, London 
REFRESH-INTERVAL;VALUE=DURATION:PT1H
X-Robots-Tag:noindex
X-PUBLISHED-TTL:PT1H
BEGIN:VTIMEZONE
TZID:UTC
BEGIN:STANDARD
TZOFFSETFROM:+0000
TZOFFSETTO:+0000
TZNAME:UTC
DTSTART:20240101T000000
END:STANDARD
END:VTIMEZONE
BEGIN:VEVENT
DTSTART;TZID=UTC:20241006T110000
DTEND;TZID=UTC:20241006T130000
DTSTAMP:20260423T092335
CREATED:20241003T124545Z
LAST-MODIFIED:20241003T124545Z
UID:3219-1728212400-1728219600@thenewinnpub.com
SUMMARY:Ross Co vs Celtic
DESCRIPTION:Ross Co vs Celtic
URL:http://thenewinnpub.com/event/ross-co-vs-celtic/
END:VEVENT
BEGIN:VEVENT
DTSTART;TZID=UTC:20241006T130000
DTEND;TZID=UTC:20241006T150000
DTSTAMP:20260423T092335
CREATED:20241003T124649Z
LAST-MODIFIED:20241003T124649Z
UID:3221-1728219600-1728226800@thenewinnpub.com
SUMMARY:Aston Villa vs Man Utd
DESCRIPTION:Aston Villa vs Man Utd
URL:http://thenewinnpub.com/event/aston-villa-vs-man-utd/
END:VEVENT
BEGIN:VEVENT
DTSTART;TZID=UTC:20241006T153000
DTEND;TZID=UTC:20241006T173000
DTSTAMP:20260423T092335
CREATED:20241003T124808Z
LAST-MODIFIED:20241003T124808Z
UID:3223-1728228600-1728235800@thenewinnpub.com
SUMMARY:Brighton vs Tottenham
DESCRIPTION:Brighton vs Tottenham
URL:http://thenewinnpub.com/event/brighton-vs-tottenham/
END:VEVENT
END:VCALENDAR